BEGIN:VCALENDAR
PRODID:-//vBulletin 6//EN
VERSION:2.0
CALSCALE:GREGORIAN
BEGIN:VEVENT
UID:0874d22b-5068-4ca5-99f3-5b39b71ed5df
DTSTAMP:20260423T041311Z
SUMMARY:Monte Carlo Heritage Run - Starting John o Groats
DESCRIPTION:Monte Carlo Heritage Run - Starting John o Groats\n\nFor more d
 etails see here\n\nMONTE CARLO HERITAGE RUN START 28 JANUARY 2020 (http://
 www.monte.scot/monte-heritage-runs.html)\n\nQuote from the MSC Scotland Si
 te
URL:https://www.hillmanimp.org/node/132
DTSTART:20200128T200000Z
DTEND:20200129T200001Z
LOCATION:John o Groats
END:VEVENT
END:VCALENDAR
