BEGIN:VCALENDAR
PRODID:-//vBulletin 6//EN
VERSION:2.0
CALSCALE:GREGORIAN
BEGIN:VEVENT
UID:c94b97a8-b06f-41d5-b910-b90caca5d472
DTSTAMP:20260423T034548Z
SUMMARY:Drive it day 2020
DESCRIPTION:GET THOSE CLASSIC RUNNING ! -   Federation of British Historic 
 Vehicle Clubs Limited. (https://www.fbhvc.co.uk/drive-it-day)
URL:https://www.hillmanimp.org/node/1343
DTSTART:20200426T090000Z
DTEND:20200426T190001Z
LOCATION:ANYWHERE !!!
END:VEVENT
END:VCALENDAR
