BEGIN:VCALENDAR
PRODID:-//vBulletin 6//EN
VERSION:2.0
CALSCALE:GREGORIAN
BEGIN:VEVENT
UID:a6ed43a8-8fa3-459d-8c0a-dae33c7ec26a
DTSTAMP:20260421T202154Z
SUMMARY:CANCELLED - The Imp Club IMP ECOSSE 2020 - Mortonhall Camping &amp\
 ; Caravan Park
DESCRIPTION:The Imp Club - IMP ECOSSE 2020 - Mortonhall Camping & Caravan P
 ark\, Edinburgh EH16 6TJ (map (https://maps.google.com/maps?hl=en-GB&q=Mor
 tonhall%20Camping%20%26%20Caravan%20Park%2C%20Edinburgh%20EH16%206TJ))\n\n
 To book please call the site on 0131 664 3137 quoting IMP ECOSSE 2020 so t
 hat the site owners know that you are part of the Imp Ecosse event.\n\nhtt
 ps://www.meadowhead.co.uk/parks/mortonhall/
URL:https://www.hillmanimp.org/node/1344
DTSTART;VALUE=DATE:20200424
DTEND;VALUE=DATE:20200427
END:VEVENT
END:VCALENDAR
