BEGIN:VCALENDAR
PRODID:-//vBulletin 6//EN
VERSION:2.0
CALSCALE:GREGORIAN
BEGIN:VEVENT
UID:b8321466-3ab0-471b-b5bd-f8d1e9673bd8
DTSTAMP:20260422T224941Z
SUMMARY:Vintage Vehicle Auction Errol Airfield\, Errol Airfield PH2 7TB
DESCRIPTION:Morris Lesley Group - Vintage Vehicle Auction Errol Airfield\, 
 Errol Airfield PH2 7TB Saturday 22nd February\, 2020 -\nThe event organise
 rs are available on 01821 642 574 for general\, and trade inquiries.
URL:https://www.hillmanimp.org/node/1345
DTSTART;VALUE=DATE:20200222
END:VEVENT
END:VCALENDAR
