BEGIN:VCALENDAR
PRODID:-//vBulletin 6//EN
VERSION:2.0
CALSCALE:GREGORIAN
BEGIN:VEVENT
UID:87732dd3-4830-4631-83b3-034cd27a7962
DTSTAMP:20260423T034919Z
SUMMARY:Scottish Sporting Car Club - Introduction &amp\; Coaching Autosolo/
 Autotest (Johnstone)
DESCRIPTION:Scottish Sporting Car Club\nIntroduction & Coaching Autosolo/Au
 totest (Johnstone)\nSaturday February 1\, 2020\n\nhttps://scottishsporting
 cc.wordpress.com/club-calendar/
URL:https://www.hillmanimp.org/node/1870
DTSTART;VALUE=DATE:20200201
LOCATION:Johnstone Glasgow
END:VEVENT
END:VCALENDAR
