BEGIN:VCALENDAR
PRODID:-//vBulletin 6//EN
VERSION:2.0
CALSCALE:GREGORIAN
BEGIN:VEVENT
UID:8202d3fd-b685-4e28-959b-eed105ff34e3
DTSTAMP:20260423T032309Z
SUMMARY:The Imp Club - Fife Area Centre Feb-2020 Meeting
DESCRIPTION:Mon\, 03 February 2020\, 19:30 – whenever :lol\n\nThe Crooked
  Glen ( Brewers Fayre )\, ( The Crooked Glen (https://www.brewersfayre.co.
 uk/en-gb/locations/fife/crooked-glen) ) \,Fife leisure Park\, Whimbrel Pla
 ce\, Dunfermline\, KY11 8EX ( MAP  (https://www.google.com/maps/place/Brew
 ers+Fayre+Crooked+Glen/@56.0788646\,-3.3995977\,18z/data=!4m12!1m6!3m5!1s0
 x48884bf0f3fa3f57:0x4e979df18bf233e!2sBrewers+Fayre+Phoenix+Park!8m2!3d55.
 8477802!4d-4.4786366!3m4!1s0x4887cddd5a1401b7:0x83c036774a619bdb!8m2!3d56.
 0788106!4d-3.3993405?hl=en-GB))\n\nContact Jim Fraser or Colin Ford if you
  want any more information or to join The Imp Club (https://www.theimpclub
 .co.uk)
URL:https://www.hillmanimp.org/node/2820
DTSTART:20200203T193000Z
DTEND:20200203T233001Z
LOCATION:The Crooked Glen Fife leisure Park Whimbrel Place Dunfermline KY11
  8EX
END:VEVENT
END:VCALENDAR
