BEGIN:VCALENDAR
PRODID:-//vBulletin 6//EN
VERSION:2.0
CALSCALE:GREGORIAN
BEGIN:VEVENT
UID:aed89ec2-a707-4358-83f9-bb142e6654e5
DTSTAMP:20260420T110951Z
SUMMARY:Minor Forum Updates - User Requests and reset of permissions hierar
 chy
DESCRIPTION:Minor Forum Updates - User Requests and reset of permissions hi
 erarchy\n\nAs some new features are used and ready to be rolled out I need
  to modify user permissions in the background then rebuild the database\n\
 nSome user features will be done at same time as long as they are within t
 he time allocated\, otherwise will be the following Sunday late.\n\nThanks
  for everyones patience as we shake out the last of the bugs and make the 
 platform as comfortable to use as possible.\n\n- HIDO
URL:https://www.hillmanimp.org/node/2909
DTSTART:20200126T220000Z
DTEND:20200126T235501Z
END:VEVENT
END:VCALENDAR
