BEGIN:VCALENDAR
PRODID:-//vBulletin 6//EN
VERSION:2.0
CALSCALE:GREGORIAN
BEGIN:VEVENT
UID:bd897eca-63db-4bf0-9f4a-53134f039ea1
DTSTAMP:20260420T092520Z
SUMMARY:Forum update and feature requests review and update planned 15th Ma
 rch
DESCRIPTION:Hello folks\n\nThe forums will be updated and some features / c
 hanged (not just usual Sunday house keeping) on Sunday 15th March from 9pm
  onwards.\n\nThe IoS Safari login issue will hopefully also be fixed ( Jim
  McGurk ) \n\nI do not use IoS (aka Apple) devices myself so it could take
  me a while if my daughter lends me her Macbook for long enough !\n\nAt th
 e same time I will be updating back end framework to support push notifica
 tions via the Android app so the App can behave more like Facebook and so 
 on where it goes beep and shows a flag when there is a new post or a notif
 ication. I failed on the last attempt due to a mismatch on device/platform
  names which ended up being a build/compiler issue but I am hoping those b
 ugs are now fixed.\n\nNo significant downtime is expected although you nev
 er know when I start tinkering how much will be fixed and how much will be
  broken :lol\n\nSame as fixing an Imp\, except no oil or dirt :lol:lol:lol
  in other words if it is not broke it perhaps will be soon.\n\nThanks for 
 your patience\n\nIf you could be so kind as to login at some point after M
 onday 16th March and just make sure all is well\, that would be a great he
 lp to me. Any comments good or bad always welcome.\n\n- HIDO
URL:https://www.hillmanimp.org/node/4834
DTSTART:20200315T210000Z
DTEND:20200315T235501Z
LOCATION:LINWOOD - HOME OF THE HILLMAN IMP
END:VEVENT
END:VCALENDAR
